BEGIN:VCALENDAR
VERSION:2.0
PRODID:-//Eventin//Event Calendar//EN
CALSCALE:GREGORIAN
METHOD:PUBLISH
BEGIN:VEVENT
UID:81194cc3ab6dc8da4c0b1b2d1d41e8ee@www.ticketzia.com
SUMMARY:Star Light Tanabata
DESCRIPTION:Make a wish and join us as we bring you star lights and star-cr
 ossed lovers. A two-day festival that brings opposites to life with food\, 
 games\, competitions\, and merch. Come and get transported\, better than be
 fore\, to the streets of Japan through this Festival.  \n\n \n\n[etn_pro
 _countdown event_id = 8368]\n \n\n \n\n[tc_wb_event id="8371" display_typ
 e="table" show_event_title="true" show_price="true" quantity="true"]
LOCATION:Girl Guides Headquarters\, 2 Waterloo Road\, Kingston
DTSTAMP:20260423T140216Z
DTSTART:20260626T160000Z
DTEND:20260628T020000Z
END:VEVENT
END:VCALENDAR
